BEGIN:VCALENDAR
VERSION:2.0
PRODID:-//eventon.com NONSGML v1.0//EN
BEGIN:VEVENT
UID:69e93685ac3ca
DTSTAMP:20260422T235845
DTSTART:20240310T223000Z
DTEND:20240310T235000Z
TZID:Europe/Moscow
LOCATION:Phoenix Raceway 7602 S Avondale Boulevard Avondale\,  Arizona 85323 United States
SUMMARY:Shriners Children’s 500
DESCRIPTION: Shriners Children’s 500\nhttps://queen-of-motorsport.com/calendar/shriners-children-s-500
URL:https://queen-of-motorsport.com/calendar/shriners-children-s-500
END:VEVENT
END:VCALENDAR