BEGIN:VCALENDAR
VERSION:2.0
PRODID:-//eventon.com NONSGML v1.0//EN
BEGIN:VEVENT
UID:69e7a83aa8428
DTSTAMP:20260421T193922
DTSTART:20241206T123000Z
DTEND:20241206T235000Z
TZID:Europe/Moscow
LOCATION:Yas Marina Circuit Yas Marina Circuit\,  Yas Island\,  PO Box 130001\,  Abu Dhabi\,  UAE
SUMMARY:Гран-при Абу-Даби
DESCRIPTION: Гран-при Абу-Даби\nhttps://queen-of-motorsport.com/calendar/gran-pri-abu-dabi-33
URL:https://queen-of-motorsport.com/calendar/gran-pri-abu-dabi-33
END:VEVENT
END:VCALENDAR