BEGIN:VCALENDAR
VERSION:2.0
PRODID:-//eventon.com NONSGML v1.0//EN
BEGIN:VEVENT
UID:69ebe80644d7b
DTSTAMP:20260425T010038
DTSTART:20231105T230000Z
DTEND:20231105T235000Z
TZID:Europe/Moscow
LOCATION:Phoenix Raceway 7602 S Avondale Boulevard Avondale\,  Arizona 85323 United States
SUMMARY:NASCAR Cup Series Championship
DESCRIPTION: NASCAR Cup Series Championship\nhttps://queen-of-motorsport.com/calendar/nascar-cup-series-championship-3
URL:https://queen-of-motorsport.com/calendar/nascar-cup-series-championship-3
END:VEVENT
END:VCALENDAR