BEGIN:VCALENDAR
VERSION:2.0
PRODID:-//eventon.com NONSGML v1.0//EN
BEGIN:VEVENT
UID:69eb39b4c5f7b
DTSTAMP:20260424T123652
DTSTART:20230807T190000Z
DTEND:20230807T235000Z
TZID:Europe/Moscow
LOCATION:Michigan International Speedway 12626 U.S. Highway 12 Brooklyn\,  MI 49230-9068
SUMMARY:FireKeepers Casino 400
DESCRIPTION: FireKeepers Casino 400\nhttps://queen-of-motorsport.com/calendar/firekeepers-casino-400-4
URL:https://queen-of-motorsport.com/calendar/firekeepers-casino-400-4
END:VEVENT
END:VCALENDAR