BEGIN:VCALENDAR
VERSION:2.0
PRODID:-//eventon.com NONSGML v1.0//EN
BEGIN:VEVENT
UID:69eb13ccd5b57
DTSTAMP:20260424T095508
DTSTART:20260823T160000Z
DTEND:20260823T235000Z
TZID:Europe/Moscow
LOCATION:Circuit Zandvoort Expl.Circuit Park Zandvoort b.v.\,  Postbus 132\,  2040 AC Zandvoort\,  Netherlands
SUMMARY:Гран-при Нидерландов
DESCRIPTION: Гран-при Нидерландов\nhttps://queen-of-motorsport.com/calendar/gran-pri-niderlandov-82
URL:https://queen-of-motorsport.com/calendar/gran-pri-niderlandov-82
END:VEVENT
END:VCALENDAR