BEGIN:VCALENDAR
VERSION:2.0
PRODID:-//eventon.com NONSGML v1.0//EN
BEGIN:VEVENT
UID:69eb13d6916df
DTSTAMP:20260424T095518
DTSTART:20260822T130000Z
DTEND:20260822T235000Z
TZID:Europe/Moscow
LOCATION:Circuit Zandvoort Expl.Circuit Park Zandvoort b.v.\,  Postbus 132\,  2040 AC Zandvoort\,  Netherlands
SUMMARY:Гран-при Нидерландов
DESCRIPTION: Гран-при Нидерландов\nhttps://queen-of-motorsport.com/calendar/gran-pri-niderlandov-80
URL:https://queen-of-motorsport.com/calendar/gran-pri-niderlandov-80
END:VEVENT
END:VCALENDAR