BEGIN:VCALENDAR
VERSION:2.0
PRODID:-//eventon.com NONSGML v1.0//EN
BEGIN:VEVENT
UID:69eb1392e0526
DTSTAMP:20260424T095410
DTSTART:20260821T133000Z
DTEND:20260821T143000Z
TZID:Europe/Moscow
LOCATION:Circuit Zandvoort Expl.Circuit Park Zandvoort b.v.\,  Postbus 132\,  2040 AC Zandvoort\,  Netherlands
SUMMARY:Гран-при Нидерландов
DESCRIPTION: Гран-при Нидерландов\nhttps://queen-of-motorsport.com/calendar/gran-pri-niderlandov-78
URL:https://queen-of-motorsport.com/calendar/gran-pri-niderlandov-78
END:VEVENT
END:VCALENDAR