BEGIN:VCALENDAR
VERSION:2.0
PRODID:-//eventon.com NONSGML v1.0//EN
BEGIN:VEVENT
UID:69eb31996aa31
DTSTAMP:20260424T120217
DTSTART:20260705T170000Z
DTEND:20260705T235000Z
TZID:Europe/Moscow
LOCATION:Silverstone Circuit Silverstone Circuit Towcester Northamptonshire NN12 8TN
SUMMARY:Гран-при Великобритании
DESCRIPTION: Гран-при Великобритании\nhttps://queen-of-motorsport.com/calendar/gran-pri-velikobritanii-102
URL:https://queen-of-motorsport.com/calendar/gran-pri-velikobritanii-102
END:VEVENT
END:VCALENDAR