BEGIN:VCALENDAR
VERSION:2.0
PRODID:-//eventon.com NONSGML v1.0//EN
BEGIN:VEVENT
UID:69eb31667cf81
DTSTAMP:20260424T120126
DTSTART:20260613T170000Z
DTEND:20260613T235000Z
TZID:Europe/Moscow
LOCATION:Circuit de Barcelona-Catalunya Camino Mas Moreneta\,  08160 Montmeló\,  Barcelona\,  Spain
SUMMARY:Гран-при Испании
DESCRIPTION: Гран-при Испании\nhttps://queen-of-motorsport.com/calendar/gran-pri-ispanii-106
URL:https://queen-of-motorsport.com/calendar/gran-pri-ispanii-106
END:VEVENT
END:VCALENDAR