BEGIN:VCALENDAR
VERSION:2.0
PRODID:-//eventon.com NONSGML v1.0//EN
BEGIN:VEVENT
UID:69eb4a720b15b
DTSTAMP:20260424T134818
DTSTART:20260612T180000Z
DTEND:20260612T190000Z
TZID:Europe/Moscow
LOCATION:Circuit de Barcelona-Catalunya Camino Mas Moreneta\,  08160 Montmeló\,  Barcelona\,  Spain
SUMMARY:Гран-при Испании
DESCRIPTION: Гран-при Испании\nhttps://queen-of-motorsport.com/calendar/gran-pri-ispanii-104
URL:https://queen-of-motorsport.com/calendar/gran-pri-ispanii-104
END:VEVENT
END:VCALENDAR