BEGIN:VCALENDAR
VERSION:2.0
PRODID:-//eventon.com NONSGML v1.0//EN
BEGIN:VEVENT
UID:69eb314174076
DTSTAMP:20260424T120049
DTSTART:20260612T143000Z
DTEND:20260612T153000Z
TZID:Europe/Moscow
LOCATION:Circuit de Barcelona-Catalunya Camino Mas Moreneta\,  08160 Montmeló\,  Barcelona\,  Spain
SUMMARY:Гран-при Испании
DESCRIPTION: Гран-при Испании\nhttps://queen-of-motorsport.com/calendar/gran-pri-ispanii-103
URL:https://queen-of-motorsport.com/calendar/gran-pri-ispanii-103
END:VEVENT
END:VCALENDAR