BEGIN:VCALENDAR
VERSION:2.0
PRODID:-//eventon.com NONSGML v1.0//EN
BEGIN:VEVENT
UID:69eb314212119
DTSTAMP:20260424T120050
DTSTART:20260607T160000Z
DTEND:20260607T235000Z
TZID:Europe/Moscow
LOCATION:Circuit de Monaco 44 rue Grimaldi à Monaco
SUMMARY:Гран-при Монако
DESCRIPTION: Гран-при Монако\nhttps://queen-of-motorsport.com/calendar/gran-pri-monako-47
URL:https://queen-of-motorsport.com/calendar/gran-pri-monako-47
END:VEVENT
END:VCALENDAR