BEGIN:VCALENDAR
VERSION:2.0
PRODID:-//eventon.com NONSGML v1.0//EN
BEGIN:VEVENT
UID:69eb3167ce165
DTSTAMP:20260424T120127
DTSTART:20260605T180000Z
DTEND:20260605T190000Z
TZID:Europe/Moscow
LOCATION:Circuit de Monaco 44 rue Grimaldi à Monaco
SUMMARY:Гран-при Монако
DESCRIPTION: Гран-при Монако\nhttps://queen-of-motorsport.com/calendar/gran-pri-monako-44
URL:https://queen-of-motorsport.com/calendar/gran-pri-monako-44
END:VEVENT
END:VCALENDAR