BEGIN:VCALENDAR
VERSION:2.0
PRODID:-//eventon.com NONSGML v1.0//EN
BEGIN:VEVENT
UID:69eb3166cde13
DTSTAMP:20260424T120126
DTSTART:20260605T143000Z
DTEND:20260605T153000Z
TZID:Europe/Moscow
LOCATION:Circuit de Monaco 44 rue Grimaldi à Monaco
SUMMARY:Гран-при Монако
DESCRIPTION: Гран-при Монако\nhttps://queen-of-motorsport.com/calendar/gran-pri-monako-43
URL:https://queen-of-motorsport.com/calendar/gran-pri-monako-43
END:VEVENT
END:VCALENDAR