BEGIN:VCALENDAR
VERSION:2.0
PRODID:-//eventon.com NONSGML v1.0//EN
BEGIN:VEVENT
UID:69eb319813a34
DTSTAMP:20260424T120216
DTSTART:20260524T230000Z
DTEND:20260524T235000Z
TZID:Europe/Moscow
LOCATION:Circuit Gilles Villeneuve Parc Jean-Drapeau Montreal\,  Quebec\,  Canada H3C 6A1
SUMMARY:Гран-при Канады
DESCRIPTION: Гран-при Канады\nhttps://queen-of-motorsport.com/calendar/gran-pri-kanady-25
URL:https://queen-of-motorsport.com/calendar/gran-pri-kanady-25
END:VEVENT
END:VCALENDAR