BEGIN:VCALENDAR
VERSION:2.0
PRODID:-//eventon.com NONSGML v1.0//EN
BEGIN:VEVENT
UID:69eb31675e3f3
DTSTAMP:20260424T120127
DTSTART:20260522T233000Z
DTEND:20260522T235000Z
TZID:Europe/Moscow
LOCATION:Circuit Gilles Villeneuve Parc Jean-Drapeau Montreal\,  Quebec\,  Canada H3C 6A1
SUMMARY:Гран-при Канады
DESCRIPTION: Гран-при Канады\nhttps://queen-of-motorsport.com/calendar/gran-pri-kanady-22
URL:https://queen-of-motorsport.com/calendar/gran-pri-kanady-22
END:VEVENT
END:VCALENDAR