BEGIN:VCALENDAR
VERSION:2.0
PRODID:-//eventon.com NONSGML v1.0//EN
BEGIN:VEVENT
UID:69eb36166b6d3
DTSTAMP:20260424T122126
DTSTART:20260419T200000Z
DTEND:20260419T235000Z
TZID:Europe/Moscow
LOCATION:Jeddah Corniche Circuit 7897 Al Kurnaysh Rd\,  Ash Shati District\,  Jeddah 23512\,  Saudi Arabia
SUMMARY:Гран-при Саудовской Аравии
DESCRIPTION: Гран-при Саудовской Аравии\nhttps://queen-of-motorsport.com/calendar/gran-pri-saudovskoj-aravii-34
URL:https://queen-of-motorsport.com/calendar/gran-pri-saudovskoj-aravii-34
END:VEVENT
END:VCALENDAR