BEGIN:VCALENDAR
VERSION:2.0
PRODID:-//eventon.com NONSGML v1.0//EN
BEGIN:VEVENT
UID:69eb319103b17
DTSTAMP:20260424T120209
DTSTART:20260410T143000Z
DTEND:20260410T153000Z
TZID:Europe/Moscow
LOCATION:Bahrain International Circuit Gate 255\,  Gulf of Bahrain Avenue\,  Umm Jidar 1062\,  Sakhir
SUMMARY:Гран-при Бахрейна
DESCRIPTION: Гран-при Бахрейна\nhttps://queen-of-motorsport.com/calendar/gran-pri-bahrejna-43
URL:https://queen-of-motorsport.com/calendar/gran-pri-bahrejna-43
END:VEVENT
END:VCALENDAR