BEGIN:VCALENDAR
VERSION:2.0
PRODID:-//eventon.com NONSGML v1.0//EN
BEGIN:VEVENT
UID:69ea8281548d2
DTSTAMP:20260423T233513
DTSTART:20260823
DTEND:20260823
TZID:Europe/Moscow
LOCATION:Circuit Zandvoort Expl.Circuit Park Zandvoort b.v.\,  Postbus 132\,  2040 AC Zandvoort\,  Netherlands
SUMMARY:Зандворт
DESCRIPTION: Зандворт\nhttps://queen-of-motorsport.com/calendar/zandvort-12
URL:https://queen-of-motorsport.com/calendar/zandvort-12
END:VEVENT
END:VCALENDAR