BEGIN:VCALENDAR
VERSION:2.0
PRODID:-//eventon.com NONSGML v1.0//EN
BEGIN:VEVENT
UID:69ea82817dd37
DTSTAMP:20260423T233513
DTSTART:20260822
DTEND:20260822
TZID:Europe/Moscow
LOCATION:Circuit Zandvoort Expl.Circuit Park Zandvoort b.v.\,  Postbus 132\,  2040 AC Zandvoort\,  Netherlands
SUMMARY:Зандворт
DESCRIPTION: Зандворт\nhttps://queen-of-motorsport.com/calendar/zandvort-11
URL:https://queen-of-motorsport.com/calendar/zandvort-11
END:VEVENT
END:VCALENDAR