BEGIN:VCALENDAR
VERSION:2.0
PRODID:-//eventon.com NONSGML v1.0//EN
BEGIN:VEVENT
UID:69eaf567224c0
DTSTAMP:20260424T074527
DTSTART:20260816
DTEND:20260816
TZID:Europe/Moscow
LOCATION:Nürburgring Nürburgring GmbH\,  Otto-Flimm-Straße\,  D-53520 Nürburg\,  Germany
SUMMARY:Нюрбургринг
DESCRIPTION: Нюрбургринг\nhttps://queen-of-motorsport.com/calendar/nyurburgring-6
URL:https://queen-of-motorsport.com/calendar/nyurburgring-6
END:VEVENT
END:VCALENDAR