BEGIN:VCALENDAR
VERSION:2.0
PRODID:-//eventon.com NONSGML v1.0//EN
BEGIN:VEVENT
UID:69eaf76b4b307
DTSTAMP:20260424T075403
DTSTART:20260726
DTEND:20260726
TZID:Europe/Moscow
LOCATION:Motorsport Arena Oschersleben Oschersleben\,  Germany
SUMMARY:Ошерслебен
DESCRIPTION: Ошерслебен\nhttps://queen-of-motorsport.com/calendar/oshersleben-6
URL:https://queen-of-motorsport.com/calendar/oshersleben-6
END:VEVENT
END:VCALENDAR