BEGIN:VCALENDAR
VERSION:2.0
PRODID:-//eventon.com NONSGML v1.0//EN
BEGIN:VEVENT
UID:69eb319059769
DTSTAMP:20260424T120208
DTSTART:20260725
DTEND:20260725
TZID:Europe/Moscow
LOCATION:Motorsport Arena Oschersleben Oschersleben\,  Germany
SUMMARY:Ошерслебен
DESCRIPTION: Ошерслебен\nhttps://queen-of-motorsport.com/calendar/oshersleben-5
URL:https://queen-of-motorsport.com/calendar/oshersleben-5
END:VEVENT
END:VCALENDAR