BEGIN:VCALENDAR
VERSION:2.0
PRODID:-//eventon.com NONSGML v1.0//EN
BEGIN:VEVENT
UID:69eafbb84114c
DTSTAMP:20260424T081224
DTSTART:20260705
DTEND:20260705
TZID:Europe/Moscow
LOCATION:Norisring MotorSportClub Nürnburg\,  Aeussere Sulzbacherstrasse 98\,  D-90491 Nürnburg\,  Germany
SUMMARY:Норисринг
DESCRIPTION: Норисринг\nhttps://queen-of-motorsport.com/calendar/norisring-6
URL:https://queen-of-motorsport.com/calendar/norisring-6
END:VEVENT
END:VCALENDAR