BEGIN:VCALENDAR
VERSION:2.0
PRODID:-//eventon.com NONSGML v1.0//EN
BEGIN:VEVENT
UID:69eb11bdb94f7
DTSTAMP:20260424T094621
DTSTART:20260704
DTEND:20260704
TZID:Europe/Moscow
LOCATION:Norisring MotorSportClub Nürnburg\,  Aeussere Sulzbacherstrasse 98\,  D-90491 Nürnburg\,  Germany
SUMMARY:Норисринг
DESCRIPTION: Норисринг\nhttps://queen-of-motorsport.com/calendar/norisring-5
URL:https://queen-of-motorsport.com/calendar/norisring-5
END:VEVENT
END:VCALENDAR