BEGIN:VCALENDAR
VERSION:2.0
PRODID:-//eventon.com NONSGML v1.0//EN
BEGIN:VEVENT
UID:69eafbc0d1dd6
DTSTAMP:20260424T081232
DTSTART:20260621
DTEND:20260621
TZID:Europe/Moscow
LOCATION:EuroSpeedway Lausitz EuroSpeedway Lausitz\,  Lausitzallee 1\,  01998 Klettwitz\,  Germany
SUMMARY:Лаузицринг
DESCRIPTION: Лаузицринг\nhttps://queen-of-motorsport.com/calendar/lauzitsring-6
URL:https://queen-of-motorsport.com/calendar/lauzitsring-6
END:VEVENT
END:VCALENDAR