BEGIN:VCALENDAR
VERSION:2.0
PRODID:-//eventon.com NONSGML v1.0//EN
BEGIN:VEVENT
UID:69eafbb8485a4
DTSTAMP:20260424T081224
DTSTART:20260620
DTEND:20260620
TZID:Europe/Moscow
LOCATION:EuroSpeedway Lausitz EuroSpeedway Lausitz\,  Lausitzallee 1\,  01998 Klettwitz\,  Germany
SUMMARY:Лаузицринг
DESCRIPTION: Лаузицринг\nhttps://queen-of-motorsport.com/calendar/lauzitsring-5
URL:https://queen-of-motorsport.com/calendar/lauzitsring-5
END:VEVENT
END:VCALENDAR