BEGIN:VCALENDAR
VERSION:2.0
PRODID:-//eventon.com NONSGML v1.0//EN
BEGIN:VEVENT
UID:69eafbb8c9268
DTSTAMP:20260424T081224
DTSTART:20260523
DTEND:20260523
TZID:Europe/Moscow
LOCATION:Circuit Zandvoort Expl.Circuit Park Zandvoort b.v.\,  Postbus 132\,  2040 AC Zandvoort\,  Netherlands
SUMMARY:Зандворт
DESCRIPTION: Зандворт\nhttps://queen-of-motorsport.com/calendar/zandvort-9
URL:https://queen-of-motorsport.com/calendar/zandvort-9
END:VEVENT
END:VCALENDAR