BEGIN:VCALENDAR
VERSION:2.0
PRODID:-//eventon.com NONSGML v1.0//EN
BEGIN:VEVENT
UID:69eafbb8e2bb4
DTSTAMP:20260424T081224
DTSTART:20260425T143000Z
DTEND:20260425T235000Z
TZID:Europe/Moscow
LOCATION:Red Bull Ring Projekt Spielberg GmbH & Co KG\,  Red Bull Ring Straße 1\,  A-8724 Spielberg\,  Austria
SUMMARY:Ред Булл Ринг
DESCRIPTION: Ред Булл Ринг\nhttps://queen-of-motorsport.com/calendar/red-bull-ring-5
URL:https://queen-of-motorsport.com/calendar/red-bull-ring-5
END:VEVENT
END:VCALENDAR