BEGIN:VCALENDAR
VERSION:2.0
PRODID:-//eventon.com NONSGML v1.0//EN
BEGIN:VEVENT
UID:69ea50f28af9d
DTSTAMP:20260423T200346
DTSTART:20260816T124000Z
DTEND:20260816T235000Z
TZID:Europe/Moscow
LOCATION:EXCEL CIRCUIT ExCeL London\,  Royal Victoria Dock\,  1 Western Gateway\,  Royal Docks\,  London E16 1XL\,  United Kingdom
SUMMARY:E-Prix Лондона
DESCRIPTION: E-Prix Лондона\nhttps://queen-of-motorsport.com/calendar/e-prix-londona-21
URL:https://queen-of-motorsport.com/calendar/e-prix-londona-21
END:VEVENT
END:VCALENDAR