BEGIN:VCALENDAR
VERSION:2.0
PRODID:-//eventon.com NONSGML v1.0//EN
BEGIN:VEVENT
UID:69ea533ebf286
DTSTAMP:20260423T201334
DTSTART:20260725T094000Z
DTEND:20260725T235000Z
TZID:Europe/Moscow
LOCATION:Tokyo Street Circuit 3 Chome-10-10 Ariake\,  Koto City\,  Tokyo 135-0063\,  Japan
SUMMARY:E-Prix Токио
DESCRIPTION: E-Prix Токио\nhttps://queen-of-motorsport.com/calendar/e-prix-tokio-7
URL:https://queen-of-motorsport.com/calendar/e-prix-tokio-7
END:VEVENT
END:VCALENDAR