BEGIN:VCALENDAR
VERSION:2.0
PRODID:-//eventon.com NONSGML v1.0//EN
BEGIN:VEVENT
UID:69ea68d78aaca
DTSTAMP:20260423T214543
DTSTART:20260704T100500Z
DTEND:20260704T235000Z
TZID:Europe/Moscow
LOCATION:Shanghai International Circuit Shanghai Jiading District Yining Road 2000
SUMMARY:E-Prix Шанхая
DESCRIPTION: E-Prix Шанхая\nhttps://queen-of-motorsport.com/calendar/e-prix-shanhaya-10
URL:https://queen-of-motorsport.com/calendar/e-prix-shanhaya-10
END:VEVENT
END:VCALENDAR