BEGIN:VCALENDAR
VERSION:2.0
PRODID:-//eventon.com NONSGML v1.0//EN
BEGIN:VEVENT
UID:69ea533e73559
DTSTAMP:20260423T201334
DTSTART:20260620T100500Z
DTEND:20260620T235000Z
TZID:Europe/Moscow
LOCATION:Sanya Street Circuit 
SUMMARY:E-Prix Санья
DESCRIPTION: E-Prix Санья\nhttps://queen-of-motorsport.com/calendar/e-prix-sanya-2
URL:https://queen-of-motorsport.com/calendar/e-prix-sanya-2
END:VEVENT
END:VCALENDAR