BEGIN:VCALENDAR
VERSION:2.0
PRODID:-//eventon.com NONSGML v1.0//EN
BEGIN:VEVENT
UID:69ea574fea31e
DTSTAMP:20260423T203055
DTSTART:20260620T054000Z
DTEND:20260620T235000Z
TZID:Europe/Moscow
LOCATION:Sanya Street Circuit 
SUMMARY:E-Prix Санья
DESCRIPTION: E-Prix Санья\nhttps://queen-of-motorsport.com/calendar/e-prix-sanya
URL:https://queen-of-motorsport.com/calendar/e-prix-sanya
END:VEVENT
END:VCALENDAR