BEGIN:VCALENDAR
VERSION:2.0
PRODID:-//eventon.com NONSGML v1.0//EN
BEGIN:VEVENT
UID:69ea533a00144
DTSTAMP:20260423T201330
DTSTART:20260517T160500Z
DTEND:20260517T235000Z
TZID:Europe/Moscow
LOCATION:Circuit de Monaco 44 rue Grimaldi à Monaco
SUMMARY:E-Prix Монако
DESCRIPTION: E-Prix Монако\nhttps://queen-of-motorsport.com/calendar/e-prix-monako-14
URL:https://queen-of-motorsport.com/calendar/e-prix-monako-14
END:VEVENT
END:VCALENDAR