BEGIN:VCALENDAR
VERSION:2.0
PRODID:-//eventon.com NONSGML v1.0//EN
BEGIN:VEVENT
UID:69ea53791768b
DTSTAMP:20260423T201433
DTSTART:20260516T160500Z
DTEND:20260516T235000Z
TZID:Europe/Moscow
LOCATION:Circuit de Monaco 44 rue Grimaldi à Monaco
SUMMARY:E-Prix Монако
DESCRIPTION: E-Prix Монако\nhttps://queen-of-motorsport.com/calendar/e-prix-monako-12
URL:https://queen-of-motorsport.com/calendar/e-prix-monako-12
END:VEVENT
END:VCALENDAR