BEGIN:VCALENDAR
VERSION:2.0
PRODID:-//eventon.com NONSGML v1.0//EN
BEGIN:VEVENT
UID:69ea533f0f9ba
DTSTAMP:20260423T201335
DTSTART:20260516T114000Z
DTEND:20260516T235000Z
TZID:Europe/Moscow
LOCATION:Circuit de Monaco 44 rue Grimaldi à Monaco
SUMMARY:E-Prix Монако
DESCRIPTION: E-Prix Монако\nhttps://queen-of-motorsport.com/calendar/e-prix-monako-11
URL:https://queen-of-motorsport.com/calendar/e-prix-monako-11
END:VEVENT
END:VCALENDAR