BEGIN:VCALENDAR
VERSION:2.0
PRODID:-//eventon.com NONSGML v1.0//EN
BEGIN:VEVENT
UID:69ea68fb8685b
DTSTAMP:20260423T214619
DTSTART:20260503T124000Z
DTEND:20260503T235000Z
TZID:Europe/Moscow
LOCATION:Tempelhof Airport Street Circuit Tempelhofer Park\,  Tempelhof\,  12101 Berlin\,  Germany
SUMMARY:E-Prix Берлина
DESCRIPTION: E-Prix Берлина\nhttps://queen-of-motorsport.com/calendar/e-prix-berlina-40
URL:https://queen-of-motorsport.com/calendar/e-prix-berlina-40
END:VEVENT
END:VCALENDAR