BEGIN:VCALENDAR
VERSION:2.0
PRODID:-//eventon.com NONSGML v1.0//EN
BEGIN:VEVENT
UID:69ea68d788ab0
DTSTAMP:20260423T214543
DTSTART:20260502T170500Z
DTEND:20260502T235000Z
TZID:Europe/Moscow
LOCATION:Tempelhof Airport Street Circuit Tempelhofer Park\,  Tempelhof\,  12101 Berlin\,  Germany
SUMMARY:E-Prix Берлина
DESCRIPTION: E-Prix Берлина\nhttps://queen-of-motorsport.com/calendar/e-prix-berlina-39
URL:https://queen-of-motorsport.com/calendar/e-prix-berlina-39
END:VEVENT
END:VCALENDAR